BEGIN:VCALENDAR
METHOD:PUBLISH
VERSION:2.0
PRODID:-//hacksw/handcal//NONSGML v1.0//EN
X-WR-TIMEZONE:Australia/Sydney
CALSCALE:GREGORIAN
BEGIN:VEVENT
DTSTART;TZID=Australia/Sydney:20260507T100000
DTEND;TZID=Australia/Sydney:20260507T120000
UID:888446566069E93CCCA68F71364153711243825192469E93CCCA691C41816627
DTSTAMP:20260423T235128
LOCATION:SCHVC Pambula
DESCRIPTION:There is no Classics & Coffee run today and we would like as m
 any as possible to attend the \"Biggest Morning Tea\" Cancer fund raising 
 at the Club on 9 May.
URL;VALUE=URI:http://schvc.com.au/events/view.php?id=888446566069E93CCCA68
 F71364153711243825192469E93CCCA691C41816627
SUMMARY:Classics & Coffee - 7 May - NO coffee run today, see you all at “Biggest Morning Tea” 9 May
END:VEVENT
END:VCALENDAR
