BEGIN:VCALENDAR
METHOD:PUBLISH
VERSION:2.0
PRODID:-//hacksw/handcal//NONSGML v1.0//EN
X-WR-TIMEZONE:Australia/Sydney
CALSCALE:GREGORIAN
BEGIN:VEVENT
DTSTART;TZID=Australia/Sydney:20260517T083000
DTEND;TZID=Australia/Sydney:20260517T140000
UID:5308727046697995029F1126187722698847878410697995029F12C560581397
DTSTAMP:20260420T191303
LOCATION:NATA Oval cnr Bluewater Drive and Princes Highway Narooma - enter
  via Bluewater Drive.
DESCRIPTION:SCHVC is joining with Narooma Car Club and the Eurobodalla Car
  Club in a run to Narooma to celebrate Motoring Heritage Day in style. The
  venue has been booked to host a \"Distinguished Gentlemen\'s Ride\" event
  and the organisers of that event have welcomed the idea of sharing the ve
 nue for our event. Their event is seeking to raise money and awareness of 
 Men\'s health issues and felt there would be real benefits from having mor
 e participants - even if they have 4 wheels vrs 2. The gates open at 9 and
  the bike riders will be setting up after that time. The travel time from 
 our general locale is under 2 hours. Given that many members live north of
  the club we can set up a departure time from the club at 8:30 and make ar
 rangements to meet others at eg on the highway next to Wolumla. There will
  be catering at the venue or nearby, but members can feel free to bring a 
 picnic lunch.   
URL;VALUE=URI:http://schvc.com.au/events/view.php?id=5308727046697995029F1
 126187722698847878410697995029F12C560581397
SUMMARY:Motoring Heritage Day
END:VEVENT
END:VCALENDAR
